BEGIN:VCALENDAR
VERSION:2.0
PRODID:-//Contratero//ES
CALSCALE:GREGORIAN
METHOD:PUBLISH
BEGIN:VEVENT
UID:017-2020-0053@contratero.es
DTSTAMP:20260421T185039Z
DTSTART:20200713T235959
DTEND:20200714T005959
SUMMARY:Cierre: Contratación de la publicación de ofertas de emple
DESCRIPTION:Contratación de la publicación de ofertas de empleo en una web accesible públicamente para las vacantes de empleo de Mutua Universal\\n\\nOrganismo: Mutua Universal Mugenat\, Mutua Colaboradora con la Seguridad Social nº 10\\n\\nVer en Contratero: https://contratero.es/contracts/017-2020-0053
URL:https://contratero.es/contracts/017-2020-0053
STATUS:CONFIRMED
BEGIN:VALARM
TRIGGER:-P1D
ACTION:DISPLAY
DESCRIPTION:Recordatorio: Contratación de la publicación
END:VALARM
END:VEVENT
END:VCALENDAR