BEGIN:VCALENDAR
VERSION:2.0
PRODID:-//Contratero//ES
CALSCALE:GREGORIAN
METHOD:PUBLISH
BEGIN:VEVENT
UID:0171-24@contratero.es
DTSTAMP:20260423T004651Z
DTSTART:20241219T235959
DTEND:20241220T005959
SUMMARY:Cierre: Contratación de la renovación de las licencias de 
DESCRIPTION:Contratación de la renovación de las licencias de software de diseño asistido por ordenador Autocard LT\\n\\nOrganismo: Dirección General de la Ciudad de las Artes y de las Ciencias S.A.\\n\\nVer en Contratero: https://contratero.es/contracts/0171-24
URL:https://contratero.es/contracts/0171-24
STATUS:CONFIRMED
BEGIN:VALARM
TRIGGER:-P1D
ACTION:DISPLAY
DESCRIPTION:Recordatorio: Contratación de la renovación 
END:VALARM
END:VEVENT
END:VCALENDAR