BEGIN:VCALENDAR
VERSION:2.0
PRODID:-//Contratero//ES
CALSCALE:GREGORIAN
METHOD:PUBLISH
BEGIN:VEVENT
UID:018/20@contratero.es
DTSTAMP:20260423T004558Z
DTSTART:20200619T235959
DTEND:20200620T005959
SUMMARY:Cierre: Servicio de medición del nivel de ciberseguridad n
DESCRIPTION:Servicio de medición del nivel de ciberseguridad nacional\\n\\nOrganismo: Dirección General del Instituto Nacional de Ciberseguridad de España\, S.A. (INCIBE)\\n\\nVer en Contratero: https://contratero.es/contracts/018/20
URL:https://contratero.es/contracts/018/20
STATUS:CONFIRMED
BEGIN:VALARM
TRIGGER:-P1D
ACTION:DISPLAY
DESCRIPTION:Recordatorio: Servicio de medición del nivel
END:VALARM
END:VEVENT
END:VCALENDAR