BEGIN:VCALENDAR
VERSION:2.0
PRODID:-//Contratero//ES
CALSCALE:GREGORIAN
METHOD:PUBLISH
BEGIN:VEVENT
UID:018/21-SP@contratero.es
DTSTAMP:20260424T074258Z
DTSTART:20210721T235959
DTEND:20210722T005959
SUMMARY:Cierre: Suministro para el desarrollo de la iniciativa Llo
DESCRIPTION:Suministro para el desarrollo de la iniciativa Lloret destino inteligente\\n\\nOrganismo: Dirección General de la Entidad Pública Empresarial RED.ES\\n\\nVer en Contratero: https://contratero.es/contracts/018/21-SP
URL:https://contratero.es/contracts/018/21-SP
STATUS:CONFIRMED
BEGIN:VALARM
TRIGGER:-P1D
ACTION:DISPLAY
DESCRIPTION:Recordatorio: Suministro para el desarrollo 
END:VALARM
END:VEVENT
END:VCALENDAR