BEGIN:VCALENDAR
VERSION:2.0
PRODID:-//Contratero//ES
CALSCALE:GREGORIAN
METHOD:PUBLISH
BEGIN:VEVENT
UID:018/25-SI@contratero.es
DTSTAMP:20260420T090459Z
DTSTART:20251107T235959
DTEND:20251108T005959
SUMMARY:Cierre: Servicio de soporte\, mantenimiento y evolutivos de
DESCRIPTION:Servicio de soporte\, mantenimiento y evolutivos de las oficinas virtuales de Red.es\\n\\nOrganismo: Dirección General de la Entidad Pública Empresarial RED.ES\\n\\nVer en Contratero: https://contratero.es/contracts/018/25-SI
URL:https://contratero.es/contracts/018/25-SI
STATUS:CONFIRMED
BEGIN:VALARM
TRIGGER:-P1D
ACTION:DISPLAY
DESCRIPTION:Recordatorio: Servicio de soporte\, mantenimi
END:VALARM
END:VEVENT
END:VCALENDAR