BEGIN:VCALENDAR
VERSION:2.0
PRODID:-//Contratero//ES
CALSCALE:GREGORIAN
METHOD:PUBLISH
BEGIN:VEVENT
UID:019/24-SNS@contratero.es
DTSTAMP:20260425T224634Z
DTSTART:20240510T235959
DTEND:20240511T005959
SUMMARY:Cierre: Mantenimiento y evolución del plan de mantenimient
DESCRIPTION:Mantenimiento y evolución del plan de mantenimiento de presas “PMP”\, portal\, ficha técnica\, gestión de niveles\, modelo digital BIM\, archivo técnico\, plan de emergencias\, sirenas aviso\, gestor central ...\\n\\nOrganismo: Presidencia de la Confederación Hidrográfica del Ebro\\n\\nVer en Contratero: https://contratero.es/contracts/019/24-SNS
URL:https://contratero.es/contracts/019/24-SNS
STATUS:CONFIRMED
BEGIN:VALARM
TRIGGER:-P1D
ACTION:DISPLAY
DESCRIPTION:Recordatorio: Mantenimiento y evolución del 
END:VALARM
END:VEVENT
END:VCALENDAR