BEGIN:VCALENDAR
VERSION:2.0
PRODID:-//Contratero//ES
CALSCALE:GREGORIAN
METHOD:PUBLISH
BEGIN:VEVENT
UID:02/2018@contratero.es
DTSTAMP:20260423T214348Z
DTSTART:20190114T235959
DTEND:20190115T005959
SUMMARY:Cierre: Servicio de  alojamiento gestionado de la Web del 
DESCRIPTION:Servicio de  alojamiento gestionado de la Web del FROB.\\n\\nOrganismo: Presidencia del Fondo de Reestructuración Ordenada Bancaria\\n\\nVer en Contratero: https://contratero.es/contracts/02/2018
URL:https://contratero.es/contracts/02/2018
STATUS:CONFIRMED
BEGIN:VALARM
TRIGGER:-P1D
ACTION:DISPLAY
DESCRIPTION:Recordatorio: Servicio de  alojamiento gesti
END:VALARM
END:VEVENT
END:VCALENDAR