BEGIN:VCALENDAR
VERSION:2.0
PRODID:-//Contratero//ES
CALSCALE:GREGORIAN
METHOD:PUBLISH
BEGIN:VEVENT
UID:020/25-RI@contratero.es
DTSTAMP:20260420T050906Z
DTSTART:20260119T235959
DTEND:20260120T005959
SUMMARY:Cierre: Servicio de mantenimiento y soporte de afirma fede
DESCRIPTION:Servicio de mantenimiento y soporte de afirma federado\\n\\nOrganismo: Dirección General de la Entidad Pública Empresarial RED.ES\\n\\nVer en Contratero: https://contratero.es/contracts/020/25-RI
URL:https://contratero.es/contracts/020/25-RI
STATUS:CONFIRMED
BEGIN:VALARM
TRIGGER:-P1D
ACTION:DISPLAY
DESCRIPTION:Recordatorio: Servicio de mantenimiento y so
END:VALARM
END:VEVENT
END:VCALENDAR