BEGIN:VCALENDAR
VERSION:2.0
PRODID:-//Contratero//ES
CALSCALE:GREGORIAN
METHOD:PUBLISH
BEGIN:VEVENT
UID:020021C00004@contratero.es
DTSTAMP:20260423T231147Z
DTSTART:20210429T235959
DTEND:20210430T005959
SUMMARY:Cierre: Licencias de Microsoft Dynamics 365
DESCRIPTION:Licencias de Microsoft Dynamics 365\\n\\nOrganismo: Instituto de Turismo de España (TURESPAÑA)\\n\\nVer en Contratero: https://contratero.es/contracts/020021C00004
URL:https://contratero.es/contracts/020021C00004
STATUS:CONFIRMED
BEGIN:VALARM
TRIGGER:-P1D
ACTION:DISPLAY
DESCRIPTION:Recordatorio: Licencias de Microsoft Dynamic
END:VALARM
END:VEVENT
END:VCALENDAR