BEGIN:VCALENDAR
VERSION:2.0
PRODID:-//Contratero//ES
CALSCALE:GREGORIAN
METHOD:PUBLISH
BEGIN:VEVENT
UID:022/18-S@contratero.es
DTSTAMP:20260426T004219Z
DTSTART:20180914T235959
DTEND:20180915T005959
SUMMARY:Cierre: Mantenimiento de las bases de datos y aplicaciones
DESCRIPTION:Mantenimiento de las bases de datos y aplicaciones informáticas de Calidad de Aguas y de Vertidos.\\n\\nOrganismo: Presidencia de la Confederación Hidrográfica del Ebro\\n\\nVer en Contratero: https://contratero.es/contracts/022/18-S
URL:https://contratero.es/contracts/022/18-S
STATUS:CONFIRMED
BEGIN:VALARM
TRIGGER:-P1D
ACTION:DISPLAY
DESCRIPTION:Recordatorio: Mantenimiento de las bases de 
END:VALARM
END:VEVENT
END:VCALENDAR