BEGIN:VCALENDAR
VERSION:2.0
PRODID:-//Contratero//ES
CALSCALE:GREGORIAN
METHOD:PUBLISH
BEGIN:VEVENT
UID:023CM.23@contratero.es
DTSTAMP:20260425T163315Z
DTSTART:20230427T235959
DTEND:20230428T005959
SUMMARY:Cierre: La implantación de infraestructuras de almacenamie
DESCRIPTION:La implantación de infraestructuras de almacenamiento en la nube para la Transformación Digital y Modernización del Ayuntamiento de Mérida\, en el marco del Plan de Recuperación\, Transformación y Resil...\\n\\nOrganismo: Alcaldia del Ayuntamiento de Mérida\\n\\nVer en Contratero: https://contratero.es/contracts/023CM.23
URL:https://contratero.es/contracts/023CM.23
STATUS:CONFIRMED
BEGIN:VALARM
TRIGGER:-P1D
ACTION:DISPLAY
DESCRIPTION:Recordatorio: La implantación de infraestruc
END:VALARM
END:VEVENT
END:VCALENDAR