BEGIN:VCALENDAR
VERSION:2.0
PRODID:-//Contratero//ES
CALSCALE:GREGORIAN
METHOD:PUBLISH
BEGIN:VEVENT
UID:025/22@contratero.es
DTSTAMP:20260423T200820Z
DTSTART:20220309T235959
DTEND:20220310T005959
SUMMARY:Cierre: Diseño y desarrollo de página web para el catálogo
DESCRIPTION:Diseño y desarrollo de página web para el catálogo de productores locales y buenas prácticas en economía verde y circular del sector agroalimentario y plan de diffusión (0475_LOCALCIR_4_E)\\n\\nOrganismo: Presidencia de la Diputación de Badajoz\\n\\nVer en Contratero: https://contratero.es/contracts/025/22
URL:https://contratero.es/contracts/025/22
STATUS:CONFIRMED
BEGIN:VALARM
TRIGGER:-P1D
ACTION:DISPLAY
DESCRIPTION:Recordatorio: Diseño y desarrollo de página 
END:VALARM
END:VEVENT
END:VCALENDAR