BEGIN:VCALENDAR
VERSION:2.0
PRODID:-//Contratero//ES
CALSCALE:GREGORIAN
METHOD:PUBLISH
BEGIN:VEVENT
UID:02526PAO@contratero.es
DTSTAMP:20260419T115842Z
DTSTART:20260403T235959
DTEND:20260404T005959
SUMMARY:Cierre: Servicio de Hosting Web para Canal Extremadura
DESCRIPTION:Servicio de Hosting Web para Canal Extremadura\\n\\nOrganismo: Dirección General de la Sociedad Pública de Radiodifusión y Televisión Extremeña S.A.U.\\n\\nVer en Contratero: https://contratero.es/contracts/02526PAO
URL:https://contratero.es/contracts/02526PAO
STATUS:CONFIRMED
BEGIN:VALARM
TRIGGER:-P1D
ACTION:DISPLAY
DESCRIPTION:Recordatorio: Servicio de Hosting Web para C
END:VALARM
END:VEVENT
END:VCALENDAR