BEGIN:VCALENDAR
VERSION:2.0
PRODID:-//Contratero//ES
CALSCALE:GREGORIAN
METHOD:PUBLISH
BEGIN:VEVENT
UID:025_16@contratero.es
DTSTAMP:20260420T064133Z
DTSTART:20251210T235959
DTEND:20251211T005959
SUMMARY:Cierre: Suministro de licencias del software MICROSOFT 365
DESCRIPTION:Suministro de licencias del software MICROSOFT 365 para la empresa pública Sociedad de Servicios del Principado de Asturias\, S. A.\, M. P.\\n\\nOrganismo: Gerencia de la Empresa Pública Sociedad de Servicios del Principado de Asturias\, S.A.\, M.P.\\n\\nVer en Contratero: https://contratero.es/contracts/025_16
URL:https://contratero.es/contracts/025_16
STATUS:CONFIRMED
BEGIN:VALARM
TRIGGER:-P1D
ACTION:DISPLAY
DESCRIPTION:Recordatorio: Suministro de licencias del so
END:VALARM
END:VEVENT
END:VCALENDAR