BEGIN:VCALENDAR
VERSION:2.0
PRODID:-//Contratero//ES
CALSCALE:GREGORIAN
METHOD:PUBLISH
BEGIN:VEVENT
UID:026_01_PAS@contratero.es
DTSTAMP:20260421T184225Z
DTSTART:20260210T235959
DTEND:20260211T005959
SUMMARY:Cierre: Contrato que tiene por objeto el suministro de un 
DESCRIPTION:Contrato que tiene por objeto el suministro de un servidor informático para la empresa pública Sociedad de Servicios del Principado de Asturias\, S. A. junto con los servicios de mantenimiento y asiste...\\n\\nOrganismo: Gerencia de la Empresa Pública Sociedad de Servicios del Principado de Asturias\, S.A.\, M.P.\\n\\nVer en Contratero: https://contratero.es/contracts/026_01_PAS
URL:https://contratero.es/contracts/026_01_PAS
STATUS:CONFIRMED
BEGIN:VALARM
TRIGGER:-P1D
ACTION:DISPLAY
DESCRIPTION:Recordatorio: Contrato que tiene por objeto 
END:VALARM
END:VEVENT
END:VCALENDAR