BEGIN:VCALENDAR
VERSION:2.0
PRODID:-//Contratero//ES
CALSCALE:GREGORIAN
METHOD:PUBLISH
BEGIN:VEVENT
UID:028/22-RI@contratero.es
DTSTAMP:20260424T031222Z
DTSTART:20220829T235959
DTEND:20220830T005959
SUMMARY:Cierre: Servicio de apoyo a la gestión integral de servici
DESCRIPTION:Servicio de apoyo a la gestión integral de servicios del área de seguridad y sistemas de RedIRIS\\n\\nOrganismo: Dirección General de la Entidad Pública Empresarial RED.ES\\n\\nVer en Contratero: https://contratero.es/contracts/028/22-RI
URL:https://contratero.es/contracts/028/22-RI
STATUS:CONFIRMED
BEGIN:VALARM
TRIGGER:-P1D
ACTION:DISPLAY
DESCRIPTION:Recordatorio: Servicio de apoyo a la gestión
END:VALARM
END:VEVENT
END:VCALENDAR