BEGIN:VCALENDAR
VERSION:2.0
PRODID:-//Contratero//ES
CALSCALE:GREGORIAN
METHOD:PUBLISH
BEGIN:VEVENT
UID:028/23-OT@contratero.es
DTSTAMP:20260422T143950Z
DTSTART:20240116T235959
DTEND:20240117T005959
SUMMARY:Cierre: Servicio de soporte y apoyo para el desarrollo de 
DESCRIPTION:Servicio de soporte y apoyo para el desarrollo de los programas del ONTSI\\n\\nOrganismo: Dirección General de la Entidad Pública Empresarial RED.ES\\n\\nVer en Contratero: https://contratero.es/contracts/028/23-OT
URL:https://contratero.es/contracts/028/23-OT
STATUS:CONFIRMED
BEGIN:VALARM
TRIGGER:-P1D
ACTION:DISPLAY
DESCRIPTION:Recordatorio: Servicio de soporte y apoyo pa
END:VALARM
END:VEVENT
END:VCALENDAR