BEGIN:VCALENDAR
VERSION:2.0
PRODID:-//Contratero//ES
CALSCALE:GREGORIAN
METHOD:PUBLISH
BEGIN:VEVENT
UID:028/25@contratero.es
DTSTAMP:20260421T053809Z
DTSTART:20250725T235959
DTEND:20250726T005959
SUMMARY:Cierre: Suministro\, despliegue\, configuración y puesta en 
DESCRIPTION:Suministro\, despliegue\, configuración y puesta en marcha de una plataforma CyberRange para INCIBE\\n\\nOrganismo: Dirección General del Instituto Nacional de Ciberseguridad de España\, S.A. (INCIBE)\\n\\nVer en Contratero: https://contratero.es/contracts/028/25
URL:https://contratero.es/contracts/028/25
STATUS:CONFIRMED
BEGIN:VALARM
TRIGGER:-P1D
ACTION:DISPLAY
DESCRIPTION:Recordatorio: Suministro\, despliegue\, config
END:VALARM
END:VEVENT
END:VCALENDAR