BEGIN:VCALENDAR
VERSION:2.0
PRODID:-//Contratero//ES
CALSCALE:GREGORIAN
METHOD:PUBLISH
BEGIN:VEVENT
UID:029/25@contratero.es
DTSTAMP:20260421T153403Z
DTSTART:20250723T235959
DTEND:20250724T005959
SUMMARY:Cierre: Adquisición de licencias y herramientas de mejora 
DESCRIPTION:Adquisición de licencias y herramientas de mejora de gestión interna\\n\\nOrganismo: Dirección General del Instituto Nacional de Ciberseguridad de España\, S.A. (INCIBE)\\n\\nVer en Contratero: https://contratero.es/contracts/029/25
URL:https://contratero.es/contracts/029/25
STATUS:CONFIRMED
BEGIN:VALARM
TRIGGER:-P1D
ACTION:DISPLAY
DESCRIPTION:Recordatorio: Adquisición de licencias y her
END:VALARM
END:VEVENT
END:VCALENDAR