BEGIN:VCALENDAR
VERSION:2.0
PRODID:-//Contratero//ES
CALSCALE:GREGORIAN
METHOD:PUBLISH
BEGIN:VEVENT
UID:02901/2019/1630@contratero.es
DTSTAMP:20260425T111629Z
DTSTART:20191209T235959
DTEND:20191210T005959
SUMMARY:Cierre: Suscripción\, actualización y mantenimiento del ent
DESCRIPTION:Suscripción\, actualización y mantenimiento del entorno telemático INTRAFIC\\n\\nOrganismo: Junta de Gobierno del Ajuntament de València\\n\\nVer en Contratero: https://contratero.es/contracts/02901/2019/1630
URL:https://contratero.es/contracts/02901/2019/1630
STATUS:CONFIRMED
BEGIN:VALARM
TRIGGER:-P1D
ACTION:DISPLAY
DESCRIPTION:Recordatorio: Suscripción\, actualización y m
END:VALARM
END:VEVENT
END:VCALENDAR