BEGIN:VCALENDAR
VERSION:2.0
PRODID:-//Contratero//ES
CALSCALE:GREGORIAN
METHOD:PUBLISH
BEGIN:VEVENT
UID:030-2022-0069@contratero.es
DTSTAMP:20260423T054049Z
DTSTART:20220315T235959
DTEND:20220316T005959
SUMMARY:Cierre: Acceso a base de datos jurídica para Mutua Univers
DESCRIPTION:Acceso a base de datos jurídica para Mutua Universal.\\n\\nOrganismo: Mutua Universal Mugenat\, Mutua Colaboradora con la Seguridad Social nº 10\\n\\nVer en Contratero: https://contratero.es/contracts/030-2022-0069
URL:https://contratero.es/contracts/030-2022-0069
STATUS:CONFIRMED
BEGIN:VALARM
TRIGGER:-P1D
ACTION:DISPLAY
DESCRIPTION:Recordatorio: Acceso a base de datos jurídic
END:VALARM
END:VEVENT
END:VCALENDAR