BEGIN:VCALENDAR
VERSION:2.0
PRODID:-//Contratero//ES
CALSCALE:GREGORIAN
METHOD:PUBLISH
BEGIN:VEVENT
UID:033-2018-0394@contratero.es
DTSTAMP:20260425T174033Z
DTSTART:20180611T235959
DTEND:20180612T005959
SUMMARY:Cierre: Contratación del Servicio de Asistencia técnica pa
DESCRIPTION:Contratación del Servicio de Asistencia técnica para el mantenimiento de las aplicaciones de prestaciones economicas y prestaciones Sanitarias en entorno SAP\, para Mutua Universal.\\n\\nOrganismo: Mutua Universal Mugenat\, Mutua Colaboradora con la Seguridad Social nº 10\\n\\nVer en Contratero: https://contratero.es/contracts/033-2018-0394
URL:https://contratero.es/contracts/033-2018-0394
STATUS:CONFIRMED
BEGIN:VALARM
TRIGGER:-P1D
ACTION:DISPLAY
DESCRIPTION:Recordatorio: Contratación del Servicio de A
END:VALARM
END:VEVENT
END:VCALENDAR