BEGIN:VCALENDAR
VERSION:2.0
PRODID:-//Contratero//ES
CALSCALE:GREGORIAN
METHOD:PUBLISH
BEGIN:VEVENT
UID:033-2018-0488@contratero.es
DTSTAMP:20260424T031227Z
DTSTART:20190325T235959
DTEND:20190326T005959
SUMMARY:Cierre: Contratación del servicio de asistencia técnica pa
DESCRIPTION:Contratación del servicio de asistencia técnica para el mantenimiento de las aplicaciones de Prestaciones Económicas y Prestaciones Sanitarias en entorno SAP.\\n\\nOrganismo: Mutua Universal Mugenat\, Mutua Colaboradora con la Seguridad Social nº 10\\n\\nVer en Contratero: https://contratero.es/contracts/033-2018-0488
URL:https://contratero.es/contracts/033-2018-0488
STATUS:CONFIRMED
BEGIN:VALARM
TRIGGER:-P1D
ACTION:DISPLAY
DESCRIPTION:Recordatorio: Contratación del servicio de a
END:VALARM
END:VEVENT
END:VCALENDAR