BEGIN:VCALENDAR
VERSION:2.0
PRODID:-//Contratero//ES
CALSCALE:GREGORIAN
METHOD:PUBLISH
BEGIN:VEVENT
UID:033-2019-0320@contratero.es
DTSTAMP:20260424T061513Z
DTSTART:20191204T235959
DTEND:20191205T005959
SUMMARY:Cierre: Suministro mediante subscripcion\, actualizacion y 
DESCRIPTION:Suministro mediante subscripcion\, actualizacion y mantenimiento de licencias de productos del fabricante microsoft mediante contrato en modalidad enterprise agreement subscription.\\n\\nOrganismo: Mutua Universal Mugenat\, Mutua Colaboradora con la Seguridad Social nº 10\\n\\nVer en Contratero: https://contratero.es/contracts/033-2019-0320
URL:https://contratero.es/contracts/033-2019-0320
STATUS:CONFIRMED
BEGIN:VALARM
TRIGGER:-P1D
ACTION:DISPLAY
DESCRIPTION:Recordatorio: Suministro mediante subscripci
END:VALARM
END:VEVENT
END:VCALENDAR