BEGIN:VCALENDAR
VERSION:2.0
PRODID:-//Contratero//ES
CALSCALE:GREGORIAN
METHOD:PUBLISH
BEGIN:VEVENT
UID:033-2022-0562@contratero.es
DTSTAMP:20260423T031212Z
DTSTART:20230210T235959
DTEND:20230211T005959
SUMMARY:Cierre: Servicios de mantenimiento y soporte técnico para 
DESCRIPTION:Servicios de mantenimiento y soporte técnico para la solución de visor de imágenes médicas mClinic.\\n\\nOrganismo: Mutua Universal Mugenat\, Mutua Colaboradora con la Seguridad Social nº 10\\n\\nVer en Contratero: https://contratero.es/contracts/033-2022-0562
URL:https://contratero.es/contracts/033-2022-0562
STATUS:CONFIRMED
BEGIN:VALARM
TRIGGER:-P1D
ACTION:DISPLAY
DESCRIPTION:Recordatorio: Servicios de mantenimiento y s
END:VALARM
END:VEVENT
END:VCALENDAR