BEGIN:VCALENDAR
VERSION:2.0
PRODID:-//Contratero//ES
CALSCALE:GREGORIAN
METHOD:PUBLISH
BEGIN:VEVENT
UID:033-2023-0473@contratero.es
DTSTAMP:20260422T113627Z
DTSTART:20230922T235959
DTEND:20230923T005959
SUMMARY:Cierre: servicios profesionales sobre tecnología del fabri
DESCRIPTION:servicios profesionales sobre tecnología del fabricante Vmware desplegada en Mutua Universal.\\n\\nOrganismo: Mutua Universal Mugenat\, Mutua Colaboradora con la Seguridad Social nº 10\\n\\nVer en Contratero: https://contratero.es/contracts/033-2023-0473
URL:https://contratero.es/contracts/033-2023-0473
STATUS:CONFIRMED
BEGIN:VALARM
TRIGGER:-P1D
ACTION:DISPLAY
DESCRIPTION:Recordatorio: servicios profesionales sobre 
END:VALARM
END:VEVENT
END:VCALENDAR