BEGIN:VCALENDAR
VERSION:2.0
PRODID:-//Contratero//ES
CALSCALE:GREGORIAN
METHOD:PUBLISH
BEGIN:VEVENT
UID:033-2023-0558@contratero.es
DTSTAMP:20260420T090613Z
DTSTART:20231213T235959
DTEND:20231214T005959
SUMMARY:Cierre: Servicio de gestión\, registro\, renovación y contra
DESCRIPTION:Servicio de gestión\, registro\, renovación y contratación de nombres de dominios de Internet de Mutua Universal\, incluyendo la gestión de estos el servicio de DNS correspondiente\\n\\nOrganismo: Mutua Universal Mugenat\, Mutua Colaboradora con la Seguridad Social nº 10\\n\\nVer en Contratero: https://contratero.es/contracts/033-2023-0558
URL:https://contratero.es/contracts/033-2023-0558
STATUS:CONFIRMED
BEGIN:VALARM
TRIGGER:-P1D
ACTION:DISPLAY
DESCRIPTION:Recordatorio: Servicio de gestión\, registro\,
END:VALARM
END:VEVENT
END:VCALENDAR