BEGIN:VCALENDAR
VERSION:2.0
PRODID:-//Contratero//ES
CALSCALE:GREGORIAN
METHOD:PUBLISH
BEGIN:VEVENT
UID:033-2024-0288@contratero.es
DTSTAMP:20260424T221730Z
DTSTART:20240912T235959
DTEND:20240913T005959
SUMMARY:Cierre: Ejecución de un proyecto\, en modalidad de proyecto
DESCRIPTION:Ejecución de un proyecto\, en modalidad de proyecto llave en mano (cerrado en objetivos y costes)\, para llevar a cabo la actualización del sistema PACS de Mutua Universal y la migración al nuevo PACS d...\\n\\nOrganismo: Mutua Universal Mugenat\, Mutua Colaboradora con la Seguridad Social nº 10\\n\\nVer en Contratero: https://contratero.es/contracts/033-2024-0288
URL:https://contratero.es/contracts/033-2024-0288
STATUS:CONFIRMED
BEGIN:VALARM
TRIGGER:-P1D
ACTION:DISPLAY
DESCRIPTION:Recordatorio: Ejecución de un proyecto\, en m
END:VALARM
END:VEVENT
END:VCALENDAR