BEGIN:VCALENDAR
VERSION:2.0
PRODID:-//Contratero//ES
CALSCALE:GREGORIAN
METHOD:PUBLISH
BEGIN:VEVENT
UID:033-2025-0155@contratero.es
DTSTAMP:20260423T152449Z
DTSTART:20250422T235959
DTEND:20250423T005959
SUMMARY:Cierre: Contratación del servicio de alojamiento de infrae
DESCRIPTION:Contratación del servicio de alojamiento de infraestructura corporativa en el Centro de Proceso de Datos secundario gestionado por Mutua Universal.\\n\\nOrganismo: Mutua Universal Mugenat\, Mutua Colaboradora con la Seguridad Social nº 10\\n\\nVer en Contratero: https://contratero.es/contracts/033-2025-0155
URL:https://contratero.es/contracts/033-2025-0155
STATUS:CONFIRMED
BEGIN:VALARM
TRIGGER:-P1D
ACTION:DISPLAY
DESCRIPTION:Recordatorio: Contratación del servicio de a
END:VALARM
END:VEVENT
END:VCALENDAR