BEGIN:VCALENDAR
VERSION:2.0
PRODID:-//Contratero//ES
CALSCALE:GREGORIAN
METHOD:PUBLISH
BEGIN:VEVENT
UID:033-2025-0408@contratero.es
DTSTAMP:20260420T190015Z
DTSTART:20251031T235959
DTEND:20251101T005959
SUMMARY:Cierre: Suministro mediante subscripción del producto “Ona
DESCRIPTION:Suministro mediante subscripción del producto “Onapsis Platform”\, del fabricante Onapsis\, y servicios de soporte asociados.\\n\\nOrganismo: Mutua Universal Mugenat\, Mutua Colaboradora con la Seguridad Social nº 10\\n\\nVer en Contratero: https://contratero.es/contracts/033-2025-0408
URL:https://contratero.es/contracts/033-2025-0408
STATUS:CONFIRMED
BEGIN:VALARM
TRIGGER:-P1D
ACTION:DISPLAY
DESCRIPTION:Recordatorio: Suministro mediante subscripci
END:VALARM
END:VEVENT
END:VCALENDAR