BEGIN:VCALENDAR
VERSION:2.0
PRODID:-//Contratero//ES
CALSCALE:GREGORIAN
METHOD:PUBLISH
BEGIN:VEVENT
UID:033-2025-0500@contratero.es
DTSTAMP:20260422T210401Z
DTSTART:20260123T235959
DTEND:20260124T005959
SUMMARY:Cierre: Contratación de suministro mediante subscripción d
DESCRIPTION:Contratación de suministro mediante subscripción de licencias de la herramienta “RecoverPoint for Virtual Machines” del fabricante Dell Technologies.\\n\\nOrganismo: Mutua Universal Mugenat\, Mutua Colaboradora con la Seguridad Social nº 10\\n\\nVer en Contratero: https://contratero.es/contracts/033-2025-0500
URL:https://contratero.es/contracts/033-2025-0500
STATUS:CONFIRMED
BEGIN:VALARM
TRIGGER:-P1D
ACTION:DISPLAY
DESCRIPTION:Recordatorio: Contratación de suministro med
END:VALARM
END:VEVENT
END:VCALENDAR