BEGIN:VCALENDAR
VERSION:2.0
PRODID:-//Contratero//ES
CALSCALE:GREGORIAN
METHOD:PUBLISH
BEGIN:VEVENT
UID:033-2026-0052@contratero.es
DTSTAMP:20260419T194434Z
DTSTART:20260323T235959
DTEND:20260324T005959
SUMMARY:Cierre: Contratación del suministro mediante suscripción d
DESCRIPTION:Contratación del suministro mediante suscripción de licencias de IBM SPSS Statistics.\\n\\nOrganismo: Mutua Universal Mugenat\, Mutua Colaboradora con la Seguridad Social nº 10\\n\\nVer en Contratero: https://contratero.es/contracts/033-2026-0052
URL:https://contratero.es/contracts/033-2026-0052
STATUS:CONFIRMED
BEGIN:VALARM
TRIGGER:-P1D
ACTION:DISPLAY
DESCRIPTION:Recordatorio: Contratación del suministro me
END:VALARM
END:VEVENT
END:VCALENDAR