BEGIN:VCALENDAR
VERSION:2.0
PRODID:-//Contratero//ES
CALSCALE:GREGORIAN
METHOD:PUBLISH
BEGIN:VEVENT
UID:034-2018-1021@contratero.es
DTSTAMP:20260425T140521Z
DTSTART:20181224T235959
DTEND:20181225T005959
SUMMARY:Cierre: Contratación del servicio de un servicio de defini
DESCRIPTION:Contratación del servicio de un servicio de definición e implantación de una estrategia de Entidad orientada al dato (Data-Driven).\\n\\nOrganismo: Mutua Universal Mugenat\, Mutua Colaboradora con la Seguridad Social nº 10\\n\\nVer en Contratero: https://contratero.es/contracts/034-2018-1021
URL:https://contratero.es/contracts/034-2018-1021
STATUS:CONFIRMED
BEGIN:VALARM
TRIGGER:-P1D
ACTION:DISPLAY
DESCRIPTION:Recordatorio: Contratación del servicio de u
END:VALARM
END:VEVENT
END:VCALENDAR