BEGIN:VCALENDAR
VERSION:2.0
PRODID:-//Contratero//ES
CALSCALE:GREGORIAN
METHOD:PUBLISH
BEGIN:VEVENT
UID:034-2024-0208@contratero.es
DTSTAMP:20260425T141737Z
DTSTART:20240611T235959
DTEND:20240612T005959
SUMMARY:Cierre: Contratación de un sistema de ciberseguridad basad
DESCRIPTION:Contratación de un sistema de ciberseguridad basado en IA para la monitorización\, detección\, análisis y respuesta en tiempo real a incidentes de seguridad\\n\\nOrganismo: Mutua Universal Mugenat\, Mutua Colaboradora con la Seguridad Social nº 10\\n\\nVer en Contratero: https://contratero.es/contracts/034-2024-0208
URL:https://contratero.es/contracts/034-2024-0208
STATUS:CONFIRMED
BEGIN:VALARM
TRIGGER:-P1D
ACTION:DISPLAY
DESCRIPTION:Recordatorio: Contratación de un sistema de 
END:VALARM
END:VEVENT
END:VCALENDAR