BEGIN:VCALENDAR
VERSION:2.0
PRODID:-//Contratero//ES
CALSCALE:GREGORIAN
METHOD:PUBLISH
BEGIN:VEVENT
UID:03624PAA@contratero.es
DTSTAMP:20260419T154541Z
DTSTART:20240606T235959
DTEND:20240607T005959
SUMMARY:Cierre: Diseño\, desarrollo\, implementación y soporte de un
DESCRIPTION:Diseño\, desarrollo\, implementación y soporte de una Plataforma Over-The-Top (OTT) para Canal Extremadura\\n\\nOrganismo: Dirección General de la Sociedad Pública de Radiodifusión y Televisión Extremeña S.A.U.\\n\\nVer en Contratero: https://contratero.es/contracts/03624PAA
URL:https://contratero.es/contracts/03624PAA
STATUS:CONFIRMED
BEGIN:VALARM
TRIGGER:-P1D
ACTION:DISPLAY
DESCRIPTION:Recordatorio: Diseño\, desarrollo\, implementa
END:VALARM
END:VEVENT
END:VCALENDAR