BEGIN:VCALENDAR
VERSION:2.0
PRODID:-//Contratero//ES
CALSCALE:GREGORIAN
METHOD:PUBLISH
BEGIN:VEVENT
UID:037/2022/SER/DG@contratero.es
DTSTAMP:20260424T014216Z
DTSTART:20221219T235959
DTEND:20221220T005959
SUMMARY:Cierre: Servicio de evolución del sistema de planificación
DESCRIPTION:Servicio de evolución del sistema de planificación de recursos empresariales de LogiRAIL\, SME\, S.A.\\n\\nOrganismo: Dirección General LogiRail S.A.\\n\\nVer en Contratero: https://contratero.es/contracts/037/2022/SER/DG
URL:https://contratero.es/contracts/037/2022/SER/DG
STATUS:CONFIRMED
BEGIN:VALARM
TRIGGER:-P1D
ACTION:DISPLAY
DESCRIPTION:Recordatorio: Servicio de evolución del sist
END:VALARM
END:VEVENT
END:VCALENDAR