BEGIN:VCALENDAR
VERSION:2.0
PRODID:-//Contratero//ES
CALSCALE:GREGORIAN
METHOD:PUBLISH
BEGIN:VEVENT
UID:04/2023@contratero.es
DTSTAMP:20260420T032553Z
DTSTART:20230926T235959
DTEND:20230927T005959
SUMMARY:Cierre: Servicio de Gestión de redes sociales y Community 
DESCRIPTION:Servicio de Gestión de redes sociales y Community Manager de la Fundación Felipe II.\\n\\nOrganismo: Presidencia de la Fundación Felipe II\\n\\nVer en Contratero: https://contratero.es/contracts/04/2023
URL:https://contratero.es/contracts/04/2023
STATUS:CONFIRMED
BEGIN:VALARM
TRIGGER:-P1D
ACTION:DISPLAY
DESCRIPTION:Recordatorio: Servicio de Gestión de redes s
END:VALARM
END:VEVENT
END:VCALENDAR