BEGIN:VCALENDAR
VERSION:2.0
PRODID:-//Contratero//ES
CALSCALE:GREGORIAN
METHOD:PUBLISH
BEGIN:VEVENT
UID:040-2026-0057@contratero.es
DTSTAMP:20260419T220820Z
DTSTART:20260319T235959
DTEND:20260320T005959
SUMMARY:Cierre: Contratación del servicio de asistencia técnica pa
DESCRIPTION:Contratación del servicio de asistencia técnica para el mantenimiento de la Web de Mutua Universal en entorno OpenCMS\\n\\nOrganismo: Mutua Universal Mugenat\, Mutua Colaboradora con la Seguridad Social nº 10\\n\\nVer en Contratero: https://contratero.es/contracts/040-2026-0057
URL:https://contratero.es/contracts/040-2026-0057
STATUS:CONFIRMED
BEGIN:VALARM
TRIGGER:-P1D
ACTION:DISPLAY
DESCRIPTION:Recordatorio: Contratación del servicio de a
END:VALARM
END:VEVENT
END:VCALENDAR