BEGIN:VCALENDAR
VERSION:2.0
PRODID:-//Contratero//ES
CALSCALE:GREGORIAN
METHOD:PUBLISH
BEGIN:VEVENT
UID:041/18-SP@contratero.es
DTSTAMP:20260419T195019Z
DTSTART:20180718T235959
DTEND:20180719T005959
SUMMARY:Cierre: Suministro de conectividad Internet y despliegue d
DESCRIPTION:Suministro de conectividad Internet y despliegue de redes de comunicaciones a centros docentes no universitarios sostenidos con fondos públicos de Castilla-La Mancha.\\n\\nOrganismo: Dirección General de la Entidad Pública Empresarial RED.ES\\n\\nVer en Contratero: https://contratero.es/contracts/041/18-SP
URL:https://contratero.es/contracts/041/18-SP
STATUS:CONFIRMED
BEGIN:VALARM
TRIGGER:-P1D
ACTION:DISPLAY
DESCRIPTION:Recordatorio: Suministro de conectividad Int
END:VALARM
END:VEVENT
END:VCALENDAR