BEGIN:VCALENDAR
VERSION:2.0
PRODID:-//Contratero//ES
CALSCALE:GREGORIAN
METHOD:PUBLISH
BEGIN:VEVENT
UID:04101/2022/108-SER@contratero.es
DTSTAMP:20260423T093753Z
DTSTART:20220625T235959
DTEND:20220626T005959
SUMMARY:Cierre: Asesoramiento y formación online para la transform
DESCRIPTION:Asesoramiento y formación online para la transformación digital de la actividad comercial\nPYMES y personas autónomas en el distrito de Ciutat Vella”\, en el marco de la Estrategia del\nPlan de Recuperac...\\n\\nOrganismo: Junta de Gobierno del Ajuntament de València\\n\\nVer en Contratero: https://contratero.es/contracts/04101/2022/108-SER
URL:https://contratero.es/contracts/04101/2022/108-SER
STATUS:CONFIRMED
BEGIN:VALARM
TRIGGER:-P1D
ACTION:DISPLAY
DESCRIPTION:Recordatorio: Asesoramiento y formación onli
END:VALARM
END:VEVENT
END:VCALENDAR