BEGIN:VCALENDAR
VERSION:2.0
PRODID:-//Contratero//ES
CALSCALE:GREGORIAN
METHOD:PUBLISH
BEGIN:VEVENT
UID:04101/2022/112-SER@contratero.es
DTSTAMP:20260422T225505Z
DTSTART:20221017T235959
DTEND:20221018T005959
SUMMARY:Cierre: Servicio de mantenimiento correctivo\, evolutivo y 
DESCRIPTION:Servicio de mantenimiento correctivo\, evolutivo y adaptativo del Sistema de Gestión Económico-Financiero del Ayuntamiento de València\, con tecnología SAP S/4 HANA (SEDA)\\n\\nOrganismo: Junta de Gobierno del Ajuntament de València\\n\\nVer en Contratero: https://contratero.es/contracts/04101/2022/112-SER
URL:https://contratero.es/contracts/04101/2022/112-SER
STATUS:CONFIRMED
BEGIN:VALARM
TRIGGER:-P1D
ACTION:DISPLAY
DESCRIPTION:Recordatorio: Servicio de mantenimiento corr
END:VALARM
END:VEVENT
END:VCALENDAR