BEGIN:VCALENDAR
VERSION:2.0
PRODID:-//Contratero//ES
CALSCALE:GREGORIAN
METHOD:PUBLISH
BEGIN:VEVENT
UID:04101/2025/244-SU@contratero.es
DTSTAMP:20260419T155005Z
DTSTART:20260414T235959
DTEND:20260415T005959
SUMMARY:Cierre: Cesión del derecho de uso y servicio de mantenimie
DESCRIPTION:Cesión del derecho de uso y servicio de mantenimiento y formación de un software de “plataforma inscripción on-line (PIO)”.\\n\\nOrganismo: Concejalía Delegada de Contratación del Ajuntament de València\\n\\nVer en Contratero: https://contratero.es/contracts/04101/2025/244-SU
URL:https://contratero.es/contracts/04101/2025/244-SU
STATUS:CONFIRMED
BEGIN:VALARM
TRIGGER:-P1D
ACTION:DISPLAY
DESCRIPTION:Recordatorio: Cesión del derecho de uso y se
END:VALARM
END:VEVENT
END:VCALENDAR