BEGIN:VCALENDAR
VERSION:2.0
PRODID:-//Contratero//ES
CALSCALE:GREGORIAN
METHOD:PUBLISH
BEGIN:VEVENT
UID:04101/2025/55-SER@contratero.es
DTSTAMP:20260420T071056Z
DTSTART:20250610T235959
DTEND:20250611T005959
SUMMARY:Cierre: servicios de  hosting\, mantenimiento de la infraes
DESCRIPTION:servicios de  hosting\, mantenimiento de la infraestructura\, gestión de dominios y asistencia técnica de la web de la Concejalía de Familia\, Juventud e Infancia\\n\\nOrganismo: Concejalía Delegada de Contratación del Ajuntament de València\\n\\nVer en Contratero: https://contratero.es/contracts/04101/2025/55-SER
URL:https://contratero.es/contracts/04101/2025/55-SER
STATUS:CONFIRMED
BEGIN:VALARM
TRIGGER:-P1D
ACTION:DISPLAY
DESCRIPTION:Recordatorio: servicios de  hosting\, manteni
END:VALARM
END:VEVENT
END:VCALENDAR