BEGIN:VCALENDAR
VERSION:2.0
PRODID:-//Contratero//ES
CALSCALE:GREGORIAN
METHOD:PUBLISH
BEGIN:VEVENT
UID:04101/2025/87-SER@contratero.es
DTSTAMP:20260423T071427Z
DTSTART:20251016T235959
DTEND:20251017T005959
SUMMARY:Cierre: Servicios informáticos de soporte y mantenimiento 
DESCRIPTION:Servicios informáticos de soporte y mantenimiento correctivo\, evolutivo\, adaptativo y preventivo\, necesarios de los aplicativos Cheque Escolar (ChEsco) y de Cheque Escolar para los Centros Escolares (...\\n\\nOrganismo: Concejalía Delegada de Contratación del Ajuntament de València\\n\\nVer en Contratero: https://contratero.es/contracts/04101/2025/87-SER
URL:https://contratero.es/contracts/04101/2025/87-SER
STATUS:CONFIRMED
BEGIN:VALARM
TRIGGER:-P1D
ACTION:DISPLAY
DESCRIPTION:Recordatorio: Servicios informáticos de sopo
END:VALARM
END:VEVENT
END:VCALENDAR