BEGIN:VCALENDAR
VERSION:2.0
PRODID:-//Contratero//ES
CALSCALE:GREGORIAN
METHOD:PUBLISH
BEGIN:VEVENT
UID:0429/2020@contratero.es
DTSTAMP:20260422T224102Z
DTSTART:20210208T235959
DTEND:20210209T005959
SUMMARY:Cierre: Servicio de telecentros municipales incluido el su
DESCRIPTION:Servicio de telecentros municipales incluido el suministro en modalidad de arrendamineto\, la instalación\, puesta en marcha y mantenimiento.\\n\\nOrganismo: Junta de Gobierno del Ayuntamiento de Leganés\\n\\nVer en Contratero: https://contratero.es/contracts/0429/2020
URL:https://contratero.es/contracts/0429/2020
STATUS:CONFIRMED
BEGIN:VALARM
TRIGGER:-P1D
ACTION:DISPLAY
DESCRIPTION:Recordatorio: Servicio de telecentros munici
END:VALARM
END:VEVENT
END:VCALENDAR