BEGIN:VCALENDAR
VERSION:2.0
PRODID:-//Contratero//ES
CALSCALE:GREGORIAN
METHOD:PUBLISH
BEGIN:VEVENT
UID:043/25@contratero.es
DTSTAMP:20260421T090409Z
DTSTART:20250723T235959
DTEND:20250724T005959
SUMMARY:Cierre: Adquisición de licencias para los sistemas operati
DESCRIPTION:Adquisición de licencias para los sistemas operativos\, ofimática y entorno del puesto de usuario\\n\\nOrganismo: Dirección General del Instituto Nacional de Ciberseguridad de España\, S.A. (INCIBE)\\n\\nVer en Contratero: https://contratero.es/contracts/043/25
URL:https://contratero.es/contracts/043/25
STATUS:CONFIRMED
BEGIN:VALARM
TRIGGER:-P1D
ACTION:DISPLAY
DESCRIPTION:Recordatorio: Adquisición de licencias para 
END:VALARM
END:VEVENT
END:VCALENDAR