BEGIN:VCALENDAR
VERSION:2.0
PRODID:-//Contratero//ES
CALSCALE:GREGORIAN
METHOD:PUBLISH
BEGIN:VEVENT
UID:044/21@contratero.es
DTSTAMP:20260424T091756Z
DTSTART:20211217T235959
DTEND:20211218T005959
SUMMARY:Cierre: Servicio de migración\, soporte y operación para la
DESCRIPTION:Servicio de migración\, soporte y operación para la plataforma BigData. (MRR C15.I7)\\n\\nOrganismo: Dirección General del Instituto Nacional de Ciberseguridad de España\, S.A. (INCIBE)\\n\\nVer en Contratero: https://contratero.es/contracts/044/21
URL:https://contratero.es/contracts/044/21
STATUS:CONFIRMED
BEGIN:VALARM
TRIGGER:-P1D
ACTION:DISPLAY
DESCRIPTION:Recordatorio: Servicio de migración\, soporte
END:VALARM
END:VEVENT
END:VCALENDAR