BEGIN:VCALENDAR
VERSION:2.0
PRODID:-//Contratero//ES
CALSCALE:GREGORIAN
METHOD:PUBLISH
BEGIN:VEVENT
UID:05-282/2023@contratero.es
DTSTAMP:20260421T110954Z
DTSTART:20260309T235959
DTEND:20260310T005959
SUMMARY:Cierre: Creación\, desarrollo y ejecución de las actuacione
DESCRIPTION:Creación\, desarrollo y ejecución de las actuaciones de digitalización y museografía\, así como la elaboración del producto promocional y la definición de la estrategia de comunicación y comercializació...\\n\\nOrganismo: Alcaldia del Ayuntamiento de La Malahá\\n\\nVer en Contratero: https://contratero.es/contracts/05-282/2023
URL:https://contratero.es/contracts/05-282/2023
STATUS:CONFIRMED
BEGIN:VALARM
TRIGGER:-P1D
ACTION:DISPLAY
DESCRIPTION:Recordatorio: Creación\, desarrollo y ejecuci
END:VALARM
END:VEVENT
END:VCALENDAR