BEGIN:VCALENDAR
VERSION:2.0
PRODID:-//Contratero//ES
CALSCALE:GREGORIAN
METHOD:PUBLISH
BEGIN:VEVENT
UID:05/2021@contratero.es
DTSTAMP:20260424T202332Z
DTSTART:20211015T235959
DTEND:20211016T005959
SUMMARY:Cierre: Otorgamiento de licencia de uso común especial al 
DESCRIPTION:Otorgamiento de licencia de uso común especial al objeto de ofrecer el servicio de barra para bebidas\, en carpa de conciertos durante la feria de Albox 2021\\n\\nOrganismo: Alcaldia del Ayuntamiento de Albox\\n\\nVer en Contratero: https://contratero.es/contracts/05/2021
URL:https://contratero.es/contracts/05/2021
STATUS:CONFIRMED
BEGIN:VALARM
TRIGGER:-P1D
ACTION:DISPLAY
DESCRIPTION:Recordatorio: Otorgamiento de licencia de us
END:VALARM
END:VEVENT
END:VCALENDAR