BEGIN:VCALENDAR
VERSION:2.0
PRODID:-//Contratero//ES
CALSCALE:GREGORIAN
METHOD:PUBLISH
BEGIN:VEVENT
UID:051/22@contratero.es
DTSTAMP:20260421T134623Z
DTSTART:20220628T235959
DTEND:20220629T005959
SUMMARY:Cierre: Adquisición de licencias de Microsoft.
DESCRIPTION:Adquisición de licencias de Microsoft.\\n\\nOrganismo: Consejería Delegada de la Empresa Metropolitana de Abastecimiento y Saneamiento de Aguas de Sevilla S.A. (EMASESA)\\n\\nVer en Contratero: https://contratero.es/contracts/051/22
URL:https://contratero.es/contracts/051/22
STATUS:CONFIRMED
BEGIN:VALARM
TRIGGER:-P1D
ACTION:DISPLAY
DESCRIPTION:Recordatorio: Adquisición de licencias de Mi
END:VALARM
END:VEVENT
END:VCALENDAR